BEGIN:VCALENDAR
VERSION:2.0
PRODID:-//Henfling-Gymnasium Meiningen - ECPv6.15.20//NONSGML v1.0//EN
CALSCALE:GREGORIAN
METHOD:PUBLISH
X-ORIGINAL-URL:https://www.henfling-gymnasium.de
X-WR-CALDESC:Veranstaltungen für Henfling-Gymnasium Meiningen
REFRESH-INTERVAL;VALUE=DURATION:PT1H
X-Robots-Tag:noindex
X-PUBLISHED-TTL:PT1H
BEGIN:VTIMEZONE
TZID:Europe/Berlin
BEGIN:DAYLIGHT
TZOFFSETFROM:+0100
TZOFFSETTO:+0200
TZNAME:CEST
DTSTART:20250330T010000
END:DAYLIGHT
BEGIN:STANDARD
TZOFFSETFROM:+0200
TZOFFSETTO:+0100
TZNAME:CET
DTSTART:20251026T010000
END:STANDARD
BEGIN:DAYLIGHT
TZOFFSETFROM:+0100
TZOFFSETTO:+0200
TZNAME:CEST
DTSTART:20260329T010000
END:DAYLIGHT
BEGIN:STANDARD
TZOFFSETFROM:+0200
TZOFFSETTO:+0100
TZNAME:CET
DTSTART:20261025T010000
END:STANDARD
BEGIN:DAYLIGHT
TZOFFSETFROM:+0100
TZOFFSETTO:+0200
TZNAME:CEST
DTSTART:20270328T010000
END:DAYLIGHT
BEGIN:STANDARD
TZOFFSETFROM:+0200
TZOFFSETTO:+0100
TZNAME:CET
DTSTART:20271031T010000
END:STANDARD
END:VTIMEZONE
BEGIN:VEVENT
DTSTART;TZID=Europe/Berlin:20260112T073000
DTEND;TZID=Europe/Berlin:20260112T114000
DTSTAMP:20260423T160926
CREATED:20251102T173704Z
LAST-MODIFIED:20251102T173704Z
UID:7429-1768203000-1768218000@www.henfling-gymnasium.de
SUMMARY:BLF-ähnliche Klassenarbeit im Fach Mathematik (Klassenstufe 10)
DESCRIPTION:
URL:https://www.henfling-gymnasium.de/termin/blf-aehnliche-klassenarbeit-im-fach-mathematik-klassenstufe-10/
LOCATION:Robotron-Saal (LRA Haus 3)\, Obertshäuser Platz 1\, Meiningen\, Thüringen\, 98617\, Germany
CATEGORIES:Eltern,Klasse 10,Lehrerinnen und Lehrer,Mathematik
END:VEVENT
END:VCALENDAR