BEGIN:VCALENDAR
VERSION:2.0
PRODID:-//Henfling-Gymnasium Meiningen - ECPv6.15.20//NONSGML v1.0//EN
CALSCALE:GREGORIAN
METHOD:PUBLISH
X-WR-CALNAME:Henfling-Gymnasium Meiningen
X-ORIGINAL-URL:https://www.henfling-gymnasium.de
X-WR-CALDESC:Veranstaltungen für Henfling-Gymnasium Meiningen
REFRESH-INTERVAL;VALUE=DURATION:PT1H
X-Robots-Tag:noindex
X-PUBLISHED-TTL:PT1H
BEGIN:VTIMEZONE
TZID:Europe/Berlin
BEGIN:DAYLIGHT
TZOFFSETFROM:+0100
TZOFFSETTO:+0200
TZNAME:CEST
DTSTART:20240331T010000
END:DAYLIGHT
BEGIN:STANDARD
TZOFFSETFROM:+0200
TZOFFSETTO:+0100
TZNAME:CET
DTSTART:20241027T010000
END:STANDARD
BEGIN:DAYLIGHT
TZOFFSETFROM:+0100
TZOFFSETTO:+0200
TZNAME:CEST
DTSTART:20250330T010000
END:DAYLIGHT
BEGIN:STANDARD
TZOFFSETFROM:+0200
TZOFFSETTO:+0100
TZNAME:CET
DTSTART:20251026T010000
END:STANDARD
BEGIN:DAYLIGHT
TZOFFSETFROM:+0100
TZOFFSETTO:+0200
TZNAME:CEST
DTSTART:20260329T010000
END:DAYLIGHT
BEGIN:STANDARD
TZOFFSETFROM:+0200
TZOFFSETTO:+0100
TZNAME:CET
DTSTART:20261025T010000
END:STANDARD
END:VTIMEZONE
BEGIN:VEVENT
DTSTART;TZID=Europe/Berlin:20251209T150000
DTEND;TZID=Europe/Berlin:20251209T170000
DTSTAMP:20260423T204214
CREATED:20251001T085143Z
LAST-MODIFIED:20251001T085143Z
UID:7233-1765292400-1765299600@www.henfling-gymnasium.de
SUMMARY:Preisverleihung 2. Stufe der Mathematik-Olympiade
DESCRIPTION:Teilnehmer: Schüler/innen der Klassenstufe 5-12\, die sich dafür qualifiziert haben (Informationen diesbzgl. von D. Leipold)
URL:https://www.henfling-gymnasium.de/termin/preisverleihung-2-stufe-der-mathematik-olympiade/
LOCATION:Volkshaus Meiningen\, Landsberger Str. 1\, 98617 Meiningen\, Meiningen\, 98617\, Deutschland
END:VEVENT
END:VCALENDAR