BEGIN:VCALENDAR
VERSION:2.0
PRODID:-//Henfling-Gymnasium Meiningen - ECPv6.15.20//NONSGML v1.0//EN
CALSCALE:GREGORIAN
METHOD:PUBLISH
X-WR-CALNAME:Henfling-Gymnasium Meiningen
X-ORIGINAL-URL:https://www.henfling-gymnasium.de
X-WR-CALDESC:Veranstaltungen für Henfling-Gymnasium Meiningen
REFRESH-INTERVAL;VALUE=DURATION:PT1H
X-Robots-Tag:noindex
X-PUBLISHED-TTL:PT1H
BEGIN:VTIMEZONE
TZID:Europe/Berlin
BEGIN:DAYLIGHT
TZOFFSETFROM:+0100
TZOFFSETTO:+0200
TZNAME:CEST
DTSTART:20240331T010000
END:DAYLIGHT
BEGIN:STANDARD
TZOFFSETFROM:+0200
TZOFFSETTO:+0100
TZNAME:CET
DTSTART:20241027T010000
END:STANDARD
BEGIN:DAYLIGHT
TZOFFSETFROM:+0100
TZOFFSETTO:+0200
TZNAME:CEST
DTSTART:20250330T010000
END:DAYLIGHT
BEGIN:STANDARD
TZOFFSETFROM:+0200
TZOFFSETTO:+0100
TZNAME:CET
DTSTART:20251026T010000
END:STANDARD
BEGIN:DAYLIGHT
TZOFFSETFROM:+0100
TZOFFSETTO:+0200
TZNAME:CEST
DTSTART:20260329T010000
END:DAYLIGHT
BEGIN:STANDARD
TZOFFSETFROM:+0200
TZOFFSETTO:+0100
TZNAME:CET
DTSTART:20261025T010000
END:STANDARD
END:VTIMEZONE
BEGIN:VEVENT
DTSTART;TZID=Europe/Berlin:20251210T073000
DTEND;TZID=Europe/Berlin:20251212T170000
DTSTAMP:20260421T185911
CREATED:20250729T081816Z
LAST-MODIFIED:20250803T215732Z
UID:6646-1765351800-1765558800@www.henfling-gymnasium.de
SUMMARY:Projekt „Brückenschlag“ (Klassenstufe 12)
DESCRIPTION:
URL:https://www.henfling-gymnasium.de/termin/projekt-brueckenschlag-jahrgangsstufe-12/
CATEGORIES:Eltern,Klasse 12,Lehrerinnen und Lehrer,Lernen am anderen Ort
END:VEVENT
END:VCALENDAR