BEGIN:VCALENDAR
VERSION:2.0
PRODID:-//Henfling-Gymnasium Meiningen - ECPv6.15.20//NONSGML v1.0//EN
CALSCALE:GREGORIAN
METHOD:PUBLISH
X-WR-CALNAME:Henfling-Gymnasium Meiningen
X-ORIGINAL-URL:https://www.henfling-gymnasium.de
X-WR-CALDESC:Veranstaltungen für Henfling-Gymnasium Meiningen
REFRESH-INTERVAL;VALUE=DURATION:PT1H
X-Robots-Tag:noindex
X-PUBLISHED-TTL:PT1H
BEGIN:VTIMEZONE
TZID:Europe/Berlin
BEGIN:DAYLIGHT
TZOFFSETFROM:+0100
TZOFFSETTO:+0200
TZNAME:CEST
DTSTART:20250330T010000
END:DAYLIGHT
BEGIN:STANDARD
TZOFFSETFROM:+0200
TZOFFSETTO:+0100
TZNAME:CET
DTSTART:20251026T010000
END:STANDARD
BEGIN:DAYLIGHT
TZOFFSETFROM:+0100
TZOFFSETTO:+0200
TZNAME:CEST
DTSTART:20260329T010000
END:DAYLIGHT
BEGIN:STANDARD
TZOFFSETFROM:+0200
TZOFFSETTO:+0100
TZNAME:CET
DTSTART:20261025T010000
END:STANDARD
BEGIN:DAYLIGHT
TZOFFSETFROM:+0100
TZOFFSETTO:+0200
TZNAME:CEST
DTSTART:20270328T010000
END:DAYLIGHT
BEGIN:STANDARD
TZOFFSETFROM:+0200
TZOFFSETTO:+0100
TZNAME:CET
DTSTART:20271031T010000
END:STANDARD
END:VTIMEZONE
BEGIN:VEVENT
DTSTART;TZID=Europe/Berlin:20260205T082500
DTEND;TZID=Europe/Berlin:20260205T095500
DTSTAMP:20260422T082502
CREATED:20260115T121532Z
LAST-MODIFIED:20260115T122007Z
UID:7708-1770279900-1770285300@www.henfling-gymnasium.de
SUMMARY:Diercke Geographiewettbewerb (Klassenstufen 7 bis 10)
DESCRIPTION:Verantwortlicher Lehrer: Herr Schattner \nDie Teilnahme am Wettbewerb ist für alle Schülerinnen und Schüler der Klassenstufen 7 bis 10 nach Rücksprache mit Herrn Schattner möglich. \nEinzelheiten zum Wettbewerb sowie weiterführende Informationen zur Durchführung werden über die Fachschaft Geographie mitgeteilt.
URL:https://www.henfling-gymnasium.de/termin/diercke-geographiewettbewerb-klassenstufen-7-bis-10/
LOCATION:Hörsaal (B012)
CATEGORIES:Besondere Veranstaltung,Eltern,Geographie,Klasse 10,Klasse 7,Klasse 8,Klasse 9,Lehrerinnen und Lehrer
END:VEVENT
END:VCALENDAR