BEGIN:VCALENDAR
VERSION:2.0
PRODID:-//Henfling-Gymnasium Meiningen - ECPv6.15.20//NONSGML v1.0//EN
CALSCALE:GREGORIAN
METHOD:PUBLISH
X-WR-CALNAME:Henfling-Gymnasium Meiningen
X-ORIGINAL-URL:https://www.henfling-gymnasium.de
X-WR-CALDESC:Veranstaltungen für Henfling-Gymnasium Meiningen
REFRESH-INTERVAL;VALUE=DURATION:PT1H
X-Robots-Tag:noindex
X-PUBLISHED-TTL:PT1H
BEGIN:VTIMEZONE
TZID:Europe/Berlin
BEGIN:DAYLIGHT
TZOFFSETFROM:+0100
TZOFFSETTO:+0200
TZNAME:CEST
DTSTART:20250330T010000
END:DAYLIGHT
BEGIN:STANDARD
TZOFFSETFROM:+0200
TZOFFSETTO:+0100
TZNAME:CET
DTSTART:20251026T010000
END:STANDARD
BEGIN:DAYLIGHT
TZOFFSETFROM:+0100
TZOFFSETTO:+0200
TZNAME:CEST
DTSTART:20260329T010000
END:DAYLIGHT
BEGIN:STANDARD
TZOFFSETFROM:+0200
TZOFFSETTO:+0100
TZNAME:CET
DTSTART:20261025T010000
END:STANDARD
BEGIN:DAYLIGHT
TZOFFSETFROM:+0100
TZOFFSETTO:+0200
TZNAME:CEST
DTSTART:20270328T010000
END:DAYLIGHT
BEGIN:STANDARD
TZOFFSETFROM:+0200
TZOFFSETTO:+0100
TZNAME:CET
DTSTART:20271031T010000
END:STANDARD
END:VTIMEZONE
BEGIN:VEVENT
DTSTART;VALUE=DATE:20260505
DTEND;VALUE=DATE:20260506
DTSTAMP:20260421T115619
CREATED:20250806T180121Z
LAST-MODIFIED:20260307T070331Z
UID:6902-1777939200-1778025599@www.henfling-gymnasium.de
SUMMARY:SPORTWETTKAMPF: Fußball Mädchen
DESCRIPTION:Teilnehmer: Schülerinnen der Klassenstufen 5-10 \nOrt: Meiningen \nBefreiung: ganztägig \nVerantwortung: Hardt\, Sebastian \n  \neingetragen am 06.08.2025
URL:https://www.henfling-gymnasium.de/termin/sportwettkampf-fussball-maedchen/
CATEGORIES:Sportveranstaltung
END:VEVENT
BEGIN:VEVENT
DTSTART;VALUE=DATE:20260512
DTEND;VALUE=DATE:20260513
DTSTAMP:20260421T115619
CREATED:20250806T175929Z
LAST-MODIFIED:20251122T125338Z
UID:6900-1778544000-1778630399@www.henfling-gymnasium.de
SUMMARY:SPORTWETTKAMPF: Fußball Jungen U13
DESCRIPTION:Teilnehmer: Schüler der Klassenstufen 5+6 \nOrt: Stadion Maßfelder Weg \nBefreiung: ganztägig \nVerantwortung: Waap\, Matthias \n  \neingetragen am 06.08.2025
URL:https://www.henfling-gymnasium.de/termin/sportwettkampf-fussball-jungen-u13-2/
CATEGORIES:Sportveranstaltung
END:VEVENT
END:VCALENDAR