BEGIN:VCALENDAR
VERSION:2.0
PRODID:-//Henfling-Gymnasium Meiningen - ECPv6.15.20//NONSGML v1.0//EN
CALSCALE:GREGORIAN
METHOD:PUBLISH
X-WR-CALNAME:Henfling-Gymnasium Meiningen
X-ORIGINAL-URL:https://www.henfling-gymnasium.de
X-WR-CALDESC:Veranstaltungen für Henfling-Gymnasium Meiningen
REFRESH-INTERVAL;VALUE=DURATION:PT1H
X-Robots-Tag:noindex
X-PUBLISHED-TTL:PT1H
BEGIN:VTIMEZONE
TZID:Europe/Berlin
BEGIN:DAYLIGHT
TZOFFSETFROM:+0100
TZOFFSETTO:+0200
TZNAME:CEST
DTSTART:20240331T010000
END:DAYLIGHT
BEGIN:STANDARD
TZOFFSETFROM:+0200
TZOFFSETTO:+0100
TZNAME:CET
DTSTART:20241027T010000
END:STANDARD
BEGIN:DAYLIGHT
TZOFFSETFROM:+0100
TZOFFSETTO:+0200
TZNAME:CEST
DTSTART:20250330T010000
END:DAYLIGHT
BEGIN:STANDARD
TZOFFSETFROM:+0200
TZOFFSETTO:+0100
TZNAME:CET
DTSTART:20251026T010000
END:STANDARD
BEGIN:DAYLIGHT
TZOFFSETFROM:+0100
TZOFFSETTO:+0200
TZNAME:CEST
DTSTART:20260329T010000
END:DAYLIGHT
BEGIN:STANDARD
TZOFFSETFROM:+0200
TZOFFSETTO:+0100
TZNAME:CET
DTSTART:20261025T010000
END:STANDARD
END:VTIMEZONE
BEGIN:VEVENT
DTSTART;VALUE=DATE:20250910
DTEND;VALUE=DATE:20250911
DTSTAMP:20260420T053204
CREATED:20250806T173128Z
LAST-MODIFIED:20250806T173128Z
UID:6870-1757462400-1757548799@www.henfling-gymnasium.de
SUMMARY:SPORTWETTKAMPF: Tag des Mädchenfußballs
DESCRIPTION:Teilnehmer: Schülerinnen der Klassenstufen 5-10 \nOrt: Sportplatz Dietzhausen \nBefreiung: ganztägig \nVerantwortung: Hardt\, Sebastian \n  \neingetragen am 06.08.2025
URL:https://www.henfling-gymnasium.de/termin/sportwettkampf-tag-des-maedchenfussballs-3/
CATEGORIES:Sportveranstaltung
END:VEVENT
BEGIN:VEVENT
DTSTART;VALUE=DATE:20250911
DTEND;VALUE=DATE:20250912
DTSTAMP:20260420T053204
CREATED:20250806T172803Z
LAST-MODIFIED:20250806T173147Z
UID:6867-1757548800-1757635199@www.henfling-gymnasium.de
SUMMARY:SPORTWETTKAMPF: Fußball Jungen U17
DESCRIPTION:Teilnehmer: Schüler der Klassenstufen 8-10 \nOrt: Stadion Maßfelder Weg \nBefreiung: ganztägig \nVerantwortung: Weißbrodt\, Björn \n  \neingetragen am 06.08.2025
URL:https://www.henfling-gymnasium.de/termin/sportwettkampf-fussball-jungen-u17/
CATEGORIES:Sportveranstaltung
END:VEVENT
BEGIN:VEVENT
DTSTART;VALUE=DATE:20250930
DTEND;VALUE=DATE:20251001
DTSTAMP:20260420T053204
CREATED:20250806T173309Z
LAST-MODIFIED:20250806T180543Z
UID:6872-1759190400-1759276799@www.henfling-gymnasium.de
SUMMARY:SPORTWETTKAMPF: Fußball Jungen U15
DESCRIPTION:Teilnehmer: Schüler der Klassenstufen 6-8 \nOrt: Stadion Maßfelder Weg \nBefreiung: ganztägig \nVerantwortung: Schattner\, Manuel \n  \neingetragen am 06.08.2025
URL:https://www.henfling-gymnasium.de/termin/sportwettkampf-fussball-kreisfinale-jungen-u15/
CATEGORIES:Sportveranstaltung
END:VEVENT
END:VCALENDAR