BEGIN:VCALENDAR
VERSION:2.0
PRODID:-//Henfling-Gymnasium Meiningen - ECPv6.15.20//NONSGML v1.0//EN
CALSCALE:GREGORIAN
METHOD:PUBLISH
X-ORIGINAL-URL:https://www.henfling-gymnasium.de
X-WR-CALDESC:Veranstaltungen für Henfling-Gymnasium Meiningen
REFRESH-INTERVAL;VALUE=DURATION:PT1H
X-Robots-Tag:noindex
X-PUBLISHED-TTL:PT1H
BEGIN:VTIMEZONE
TZID:Europe/Berlin
BEGIN:DAYLIGHT
TZOFFSETFROM:+0100
TZOFFSETTO:+0200
TZNAME:CEST
DTSTART:20250330T010000
END:DAYLIGHT
BEGIN:STANDARD
TZOFFSETFROM:+0200
TZOFFSETTO:+0100
TZNAME:CET
DTSTART:20251026T010000
END:STANDARD
BEGIN:DAYLIGHT
TZOFFSETFROM:+0100
TZOFFSETTO:+0200
TZNAME:CEST
DTSTART:20260329T010000
END:DAYLIGHT
BEGIN:STANDARD
TZOFFSETFROM:+0200
TZOFFSETTO:+0100
TZNAME:CET
DTSTART:20261025T010000
END:STANDARD
BEGIN:DAYLIGHT
TZOFFSETFROM:+0100
TZOFFSETTO:+0200
TZNAME:CEST
DTSTART:20270328T010000
END:DAYLIGHT
BEGIN:STANDARD
TZOFFSETFROM:+0200
TZOFFSETTO:+0100
TZNAME:CET
DTSTART:20271031T010000
END:STANDARD
END:VTIMEZONE
BEGIN:VEVENT
DTSTART;TZID=Europe/Berlin:20260327T101000
DTEND;TZID=Europe/Berlin:20260327T130500
DTSTAMP:20260419T170736
CREATED:20250805T212144Z
LAST-MODIFIED:20250805T212542Z
UID:6850-1774606200-1774616700@www.henfling-gymnasium.de
SUMMARY:Besuch des englischen Theaterstücks „Martin Luther King“ (Klassenstufen 10\, 11 und 12)
DESCRIPTION:Der Besuch des ausgewiesenen englischen Theaterstücks ist für alle Schülerinnen und Schüler der Jahrgangsstufen 10\, 11 und 12 verpflichtend. \nWeitere Informationen werden im Englischunterricht bekanntgegeben; Ansprechpartner sind die Englischlehrer.
URL:https://www.henfling-gymnasium.de/termin/besuch-des-englischen-theaterstuecks-martin-luther-king-klassenstufen-10-11-und-12/
CATEGORIES:Eltern,Englisch,Klasse 10,Klasse 11,Klasse 12,Lehrerinnen und Lehrer
END:VEVENT
END:VCALENDAR