BEGIN:VCALENDAR
VERSION:2.0
PRODID:-//Henfling-Gymnasium Meiningen - ECPv6.15.20//NONSGML v1.0//EN
CALSCALE:GREGORIAN
METHOD:PUBLISH
X-ORIGINAL-URL:https://www.henfling-gymnasium.de
X-WR-CALDESC:Veranstaltungen für Henfling-Gymnasium Meiningen
REFRESH-INTERVAL;VALUE=DURATION:PT1H
X-Robots-Tag:noindex
X-PUBLISHED-TTL:PT1H
BEGIN:VTIMEZONE
TZID:Europe/Berlin
BEGIN:DAYLIGHT
TZOFFSETFROM:+0100
TZOFFSETTO:+0200
TZNAME:CEST
DTSTART:20240331T010000
END:DAYLIGHT
BEGIN:STANDARD
TZOFFSETFROM:+0200
TZOFFSETTO:+0100
TZNAME:CET
DTSTART:20241027T010000
END:STANDARD
BEGIN:DAYLIGHT
TZOFFSETFROM:+0100
TZOFFSETTO:+0200
TZNAME:CEST
DTSTART:20250330T010000
END:DAYLIGHT
BEGIN:STANDARD
TZOFFSETFROM:+0200
TZOFFSETTO:+0100
TZNAME:CET
DTSTART:20251026T010000
END:STANDARD
BEGIN:DAYLIGHT
TZOFFSETFROM:+0100
TZOFFSETTO:+0200
TZNAME:CEST
DTSTART:20260329T010000
END:DAYLIGHT
BEGIN:STANDARD
TZOFFSETFROM:+0200
TZOFFSETTO:+0100
TZNAME:CET
DTSTART:20261025T010000
END:STANDARD
END:VTIMEZONE
BEGIN:VEVENT
DTSTART;TZID=Europe/Berlin:20250826T180000
DTEND;TZID=Europe/Berlin:20250826T193000
DTSTAMP:20260424T005614
CREATED:20250729T064444Z
LAST-MODIFIED:20250803T215120Z
UID:6614-1756231200-1756236600@www.henfling-gymnasium.de
SUMMARY:Elternabend der Klassenstufen 5 bis 8
DESCRIPTION:Der Raumplan für die Durchführung der Elternabende wird rechtzeitig vorher über die Schulhomepage bekanntgegeben.
URL:https://www.henfling-gymnasium.de/termin/elternabend-der-jahrgangsstufen-5-bis-8/
CATEGORIES:Eltern,Klasse 5,Klasse 6,Klasse 7,Klasse 8,Lehrerinnen und Lehrer
END:VEVENT
BEGIN:VEVENT
DTSTART;TZID=Europe/Berlin:20250828T180000
DTEND;TZID=Europe/Berlin:20250828T190000
DTSTAMP:20260424T005614
CREATED:20250729T064646Z
LAST-MODIFIED:20250803T215202Z
UID:6616-1756404000-1756407600@www.henfling-gymnasium.de
SUMMARY:Elternabend der Klassenstufen 9 bis 12
DESCRIPTION:Der Raumplan für die Durchführung der Elternabende wird rechtzeitig vorher über die Schulhomepage bekanntgegeben.
URL:https://www.henfling-gymnasium.de/termin/elternabend-der-jahrgangsstufen-9-bis-12/
CATEGORIES:Eltern,Klasse 10,Klasse 11,Klasse 12,Klasse 9,Lehrerinnen und Lehrer
END:VEVENT
END:VCALENDAR