BEGIN:VCALENDAR
VERSION:2.0
PRODID:-//Henfling-Gymnasium Meiningen - ECPv6.15.20//NONSGML v1.0//EN
CALSCALE:GREGORIAN
METHOD:PUBLISH
X-ORIGINAL-URL:https://www.henfling-gymnasium.de
X-WR-CALDESC:Veranstaltungen für Henfling-Gymnasium Meiningen
REFRESH-INTERVAL;VALUE=DURATION:PT1H
X-Robots-Tag:noindex
X-PUBLISHED-TTL:PT1H
BEGIN:VTIMEZONE
TZID:Europe/Berlin
BEGIN:DAYLIGHT
TZOFFSETFROM:+0100
TZOFFSETTO:+0200
TZNAME:CEST
DTSTART:20240331T010000
END:DAYLIGHT
BEGIN:STANDARD
TZOFFSETFROM:+0200
TZOFFSETTO:+0100
TZNAME:CET
DTSTART:20241027T010000
END:STANDARD
BEGIN:DAYLIGHT
TZOFFSETFROM:+0100
TZOFFSETTO:+0200
TZNAME:CEST
DTSTART:20250330T010000
END:DAYLIGHT
BEGIN:STANDARD
TZOFFSETFROM:+0200
TZOFFSETTO:+0100
TZNAME:CET
DTSTART:20251026T010000
END:STANDARD
BEGIN:DAYLIGHT
TZOFFSETFROM:+0100
TZOFFSETTO:+0200
TZNAME:CEST
DTSTART:20260329T010000
END:DAYLIGHT
BEGIN:STANDARD
TZOFFSETFROM:+0200
TZOFFSETTO:+0100
TZNAME:CET
DTSTART:20261025T010000
END:STANDARD
END:VTIMEZONE
BEGIN:VEVENT
DTSTART;TZID=Europe/Berlin:20251105T101000
DTEND;TZID=Europe/Berlin:20251105T111000
DTSTAMP:20260419T224120
CREATED:20250926T130630Z
LAST-MODIFIED:20250926T130630Z
UID:7185-1762337400-1762341000@www.henfling-gymnasium.de
SUMMARY:DOKULIVE (Klassenstufen 10\, 11 und 12)
DESCRIPTION:
URL:https://www.henfling-gymnasium.de/termin/dokulive-klassenstufen-10-11-und-12/
LOCATION:Reinhard-Kupietz-Halle (Multihalle)\, Moritz-Seebeck-Allee 6\, Meiningen\, Thüringen\, 98617\, Germany
CATEGORIES:Besondere Veranstaltung,Geschichte,Klasse 10,Klasse 11,Klasse 12,Lehrerinnen und Lehrer
END:VEVENT
END:VCALENDAR