BEGIN:VCALENDAR
VERSION:2.0
PRODID:-//Henfling-Gymnasium Meiningen - ECPv6.15.20//NONSGML v1.0//EN
CALSCALE:GREGORIAN
METHOD:PUBLISH
X-ORIGINAL-URL:https://www.henfling-gymnasium.de
X-WR-CALDESC:Veranstaltungen für Henfling-Gymnasium Meiningen
REFRESH-INTERVAL;VALUE=DURATION:PT1H
X-Robots-Tag:noindex
X-PUBLISHED-TTL:PT1H
BEGIN:VTIMEZONE
TZID:Europe/Berlin
BEGIN:DAYLIGHT
TZOFFSETFROM:+0100
TZOFFSETTO:+0200
TZNAME:CEST
DTSTART:20250330T010000
END:DAYLIGHT
BEGIN:STANDARD
TZOFFSETFROM:+0200
TZOFFSETTO:+0100
TZNAME:CET
DTSTART:20251026T010000
END:STANDARD
BEGIN:DAYLIGHT
TZOFFSETFROM:+0100
TZOFFSETTO:+0200
TZNAME:CEST
DTSTART:20260329T010000
END:DAYLIGHT
BEGIN:STANDARD
TZOFFSETFROM:+0200
TZOFFSETTO:+0100
TZNAME:CET
DTSTART:20261025T010000
END:STANDARD
BEGIN:DAYLIGHT
TZOFFSETFROM:+0100
TZOFFSETTO:+0200
TZNAME:CEST
DTSTART:20270328T010000
END:DAYLIGHT
BEGIN:STANDARD
TZOFFSETFROM:+0200
TZOFFSETTO:+0100
TZNAME:CET
DTSTART:20271031T010000
END:STANDARD
END:VTIMEZONE
BEGIN:VEVENT
DTSTART;VALUE=DATE:20260204
DTEND;VALUE=DATE:20260205
DTSTAMP:20260425T182639
CREATED:20251122T124947Z
LAST-MODIFIED:20251122T124947Z
UID:7571-1770163200-1770249599@www.henfling-gymnasium.de
SUMMARY:SPORTWETTKAMPF: Basketball Jungen U18
DESCRIPTION:Teilnehmer: SuS der Klassenstufen 9 und 10 \nOrt: Saalfeld \nBefreiung: ganztägig \nVerantwortung: Waap\, Matthias \n  \neingetragen am 22.11.2025
URL:https://www.henfling-gymnasium.de/termin/sportwettkampf-basketball-jungen-u18/
CATEGORIES:Sportveranstaltung
END:VEVENT
BEGIN:VEVENT
DTSTART;VALUE=DATE:20260212
DTEND;VALUE=DATE:20260213
DTSTAMP:20260425T182639
CREATED:20250806T180942Z
LAST-MODIFIED:20251110T221646Z
UID:6909-1770854400-1770940799@www.henfling-gymnasium.de
SUMMARY:SPORTWETTKAMPF: Schulamtsfinale Basketball U14 Mädchen
DESCRIPTION:Teilnehmer: Schülerinnen der Klassen 5+6 \nBefreiung: ganztägig \nVerantwortung: Hardt\, Sebastian \neingetragen am 10.11.2025
URL:https://www.henfling-gymnasium.de/termin/sportwettkampf-geraetturnen-u14-maedchen/
CATEGORIES:Sportveranstaltung
END:VEVENT
END:VCALENDAR