BEGIN:VCALENDAR
VERSION:2.0
PRODID:-//Henfling-Gymnasium Meiningen - ECPv6.15.20//NONSGML v1.0//EN
CALSCALE:GREGORIAN
METHOD:PUBLISH
X-WR-CALNAME:Henfling-Gymnasium Meiningen
X-ORIGINAL-URL:https://www.henfling-gymnasium.de
X-WR-CALDESC:Veranstaltungen für Henfling-Gymnasium Meiningen
REFRESH-INTERVAL;VALUE=DURATION:PT1H
X-Robots-Tag:noindex
X-PUBLISHED-TTL:PT1H
BEGIN:VTIMEZONE
TZID:Europe/Berlin
BEGIN:DAYLIGHT
TZOFFSETFROM:+0100
TZOFFSETTO:+0200
TZNAME:CEST
DTSTART:20250330T010000
END:DAYLIGHT
BEGIN:STANDARD
TZOFFSETFROM:+0200
TZOFFSETTO:+0100
TZNAME:CET
DTSTART:20251026T010000
END:STANDARD
BEGIN:DAYLIGHT
TZOFFSETFROM:+0100
TZOFFSETTO:+0200
TZNAME:CEST
DTSTART:20260329T010000
END:DAYLIGHT
BEGIN:STANDARD
TZOFFSETFROM:+0200
TZOFFSETTO:+0100
TZNAME:CET
DTSTART:20261025T010000
END:STANDARD
BEGIN:DAYLIGHT
TZOFFSETFROM:+0100
TZOFFSETTO:+0200
TZNAME:CEST
DTSTART:20270328T010000
END:DAYLIGHT
BEGIN:STANDARD
TZOFFSETFROM:+0200
TZOFFSETTO:+0100
TZNAME:CET
DTSTART:20271031T010000
END:STANDARD
END:VTIMEZONE
BEGIN:VEVENT
DTSTART;VALUE=DATE:20260601
DTEND;VALUE=DATE:20260602
DTSTAMP:20260423T164851
CREATED:20250803T221941Z
LAST-MODIFIED:20250803T221941Z
UID:6804-1780272000-1780358399@www.henfling-gymnasium.de
SUMMARY:Berufsberatung der Agentur für Arbeit (Klassenstufen 10\, 11 und 12)
DESCRIPTION:
URL:https://www.henfling-gymnasium.de/termin/berufsberatung-der-agentur-fuer-arbeit-klassenstufen-10-11-und-12-9/
CATEGORIES:Berufsorientierung,Eltern,Klasse 10,Klasse 11,Klasse 12,Lehrerinnen und Lehrer
END:VEVENT
BEGIN:VEVENT
DTSTART;VALUE=DATE:20260602
DTEND;VALUE=DATE:20260603
DTSTAMP:20260423T164851
CREATED:20250806T180236Z
LAST-MODIFIED:20251122T130058Z
UID:6904-1780358400-1780444799@www.henfling-gymnasium.de
SUMMARY:SPORTWETTKAMPF: Beach-Volleyball U18mix
DESCRIPTION:Teilnehmer: SuS der Klassenstufen 9-11 \nOrt: Schmalkalden \nBefreiung: ganztägig \nVerantwortung: Hardt\, Sebastian \n  \neingetragen am 06.08.2025
URL:https://www.henfling-gymnasium.de/termin/sportwettkampf-beach-volleyball-u18mix/
CATEGORIES:Sportveranstaltung
END:VEVENT
BEGIN:VEVENT
DTSTART;VALUE=DATE:20260603
DTEND;VALUE=DATE:20260604
DTSTAMP:20260423T164851
CREATED:20250729T094543Z
LAST-MODIFIED:20250729T094543Z
UID:6682-1780444800-1780531199@www.henfling-gymnasium.de
SUMMARY:Mündliche Abiturprüfungen (Hauptprüfungstag)
DESCRIPTION:
URL:https://www.henfling-gymnasium.de/termin/muendliche-abiturpruefungen-hauptpruefungstag/
CATEGORIES:Abitur,Klasse 12,Lehrerinnen und Lehrer
END:VEVENT
BEGIN:VEVENT
DTSTART;TZID=Europe/Berlin:20260603T160000
DTEND;TZID=Europe/Berlin:20260603T220000
DTSTAMP:20260423T164851
CREATED:20250729T094711Z
LAST-MODIFIED:20250729T094711Z
UID:6684-1780502400-1780524000@www.henfling-gymnasium.de
SUMMARY:Lehrerwandertag
DESCRIPTION:
URL:https://www.henfling-gymnasium.de/termin/lehrerwandertag-3/
CATEGORIES:Besondere Veranstaltung,Lehrerinnen und Lehrer
END:VEVENT
BEGIN:VEVENT
DTSTART;VALUE=DATE:20260604
DTEND;VALUE=DATE:20260605
DTSTAMP:20260423T164851
CREATED:20250806T180406Z
LAST-MODIFIED:20250806T180406Z
UID:6906-1780531200-1780617599@www.henfling-gymnasium.de
SUMMARY:SPORTWETTKAMPF: Schwimmen U14+U16
DESCRIPTION:Teilnehmer: SuS der Klassenstufen 5-9 \nOrt: Erfurt \nBefreiung: ganztägig \nVerantwortung: Brachmann\, Susann \n  \neingetragen am 06.08.2025
URL:https://www.henfling-gymnasium.de/termin/sportwettkampf-schwimmen-u14u16/
CATEGORIES:Sportveranstaltung
END:VEVENT
BEGIN:VEVENT
DTSTART;TZID=Europe/Berlin:20260605T083000
DTEND;TZID=Europe/Berlin:20260605T100000
DTSTAMP:20260423T164851
CREATED:20260423T071730Z
LAST-MODIFIED:20260423T071730Z
UID:8079-1780648200-1780653600@www.henfling-gymnasium.de
SUMMARY:Besuch der Europaabgeordneten Marion Walsmann (MdEP)
DESCRIPTION:
URL:https://www.henfling-gymnasium.de/termin/besuch-der-europaabgeordneten-marion-walsmann-mdep/
END:VEVENT
BEGIN:VEVENT
DTSTART;TZID=Europe/Berlin:20260605T131500
DTEND;TZID=Europe/Berlin:20260605T144500
DTSTAMP:20260423T164851
CREATED:20251103T222118Z
LAST-MODIFIED:20251103T222118Z
UID:7462-1780665300-1780670700@www.henfling-gymnasium.de
SUMMARY:Nachschreibtermin für Klassen- und Kursarbeiten
DESCRIPTION:
URL:https://www.henfling-gymnasium.de/termin/nachschreibtermin-fuer-klassen-und-kursarbeiten-8/
LOCATION:Hörsaal
CATEGORIES:Eltern,Klasse 10,Klasse 11,Klasse 12,Klasse 5,Klasse 6,Klasse 7,Klasse 8,Klasse 9,Lehrerinnen und Lehrer
END:VEVENT
BEGIN:VEVENT
DTSTART;VALUE=DATE:20260610
DTEND;VALUE=DATE:20260611
DTSTAMP:20260423T164851
CREATED:20250324T130615Z
LAST-MODIFIED:20250324T130615Z
UID:6123-1781049600-1781135999@www.henfling-gymnasium.de
SUMMARY:Mitteilung der Ergebnisse der schriftlichen Abiturprüfung
DESCRIPTION:
URL:https://www.henfling-gymnasium.de/termin/mitteilung-der-ergebnisse-der-schriftlichen-abiturpruefung-5/
CATEGORIES:Abitur
END:VEVENT
BEGIN:VEVENT
DTSTART;TZID=Europe/Berlin:20260610T180000
DTEND;TZID=Europe/Berlin:20260610T193000
DTSTAMP:20260423T164851
CREATED:20250819T092948Z
LAST-MODIFIED:20260413T105618Z
UID:7081-1781114400-1781119800@www.henfling-gymnasium.de
SUMMARY:Elternabend für die neuen 5. Klassen
DESCRIPTION:
URL:https://www.henfling-gymnasium.de/termin/elternabend-fuer-die-neuen-5-klassen/
END:VEVENT
BEGIN:VEVENT
DTSTART;VALUE=DATE:20260611
DTEND;VALUE=DATE:20260612
DTSTAMP:20260423T164851
CREATED:20250324T130710Z
LAST-MODIFIED:20250324T130710Z
UID:6125-1781136000-1781222399@www.henfling-gymnasium.de
SUMMARY:Verbindliche Mitteilung der Schüler über zusätzliche mündliche Abiturprüfungen (§ 100 Abs. 2 ThürSchulO)
DESCRIPTION:
URL:https://www.henfling-gymnasium.de/termin/verbindliche-mitteilung-der-schueler-ueber-zusaetzliche-muendliche-abiturpruefungen-%c2%a7-100-abs-2-thuerschulo-2/
CATEGORIES:Abitur
END:VEVENT
BEGIN:VEVENT
DTSTART;VALUE=DATE:20260611
DTEND;VALUE=DATE:20260612
DTSTAMP:20260423T164851
CREATED:20250324T131242Z
LAST-MODIFIED:20250324T131242Z
UID:6137-1781136000-1781222399@www.henfling-gymnasium.de
SUMMARY:Mitteilung der Ergebnisse der schriftlichen Besonderen Leistungsfeststellung
DESCRIPTION:
URL:https://www.henfling-gymnasium.de/termin/mitteilung-der-ergebnisse-der-schriftlichen-besonderen-leistungsfeststellung-5/
CATEGORIES:Besondere Leistungsfeststellung
END:VEVENT
BEGIN:VEVENT
DTSTART;VALUE=DATE:20260615
DTEND;VALUE=DATE:20260616
DTSTAMP:20260423T164851
CREATED:20250324T131349Z
LAST-MODIFIED:20250729T063740Z
UID:6139-1781481600-1781567999@www.henfling-gymnasium.de
SUMMARY:Verbindliche Mitteilung der Schüler über die Teilnahme an der zusätzlichen mündlichen Leistungsfeststellung (§ 68 Abs. 2 ThürSchulO)
DESCRIPTION:
URL:https://www.henfling-gymnasium.de/termin/verbindliche-mitteilung-der-schueler-ueber-die-teil-nahme-an-der-zusaetzlichen-muendlichen-leistungsfeststellung-%c2%a7-68-abs-2-thuerschulo/
CATEGORIES:Besondere Leistungsfeststellung
END:VEVENT
BEGIN:VEVENT
DTSTART;VALUE=DATE:20260616
DTEND;VALUE=DATE:20260620
DTSTAMP:20260423T164851
CREATED:20250814T072936Z
LAST-MODIFIED:20250814T072936Z
UID:7055-1781568000-1781913599@www.henfling-gymnasium.de
SUMMARY:Teilnahme an den Südthüringischen Schultheatertagen (DG10)
DESCRIPTION:Theater
URL:https://www.henfling-gymnasium.de/termin/teilnahme-an-den-suedthueringischen-schultheatertagen-dg10/
CATEGORIES:Besondere Veranstaltung,Darstellen und Gestalten,Eltern,Klasse 10,Lehrerinnen und Lehrer
END:VEVENT
BEGIN:VEVENT
DTSTART;TZID=Europe/Berlin:20260620T100000
DTEND;TZID=Europe/Berlin:20260620T120000
DTSTAMP:20260423T164851
CREATED:20250729T095924Z
LAST-MODIFIED:20250729T100132Z
UID:6690-1781949600-1781956800@www.henfling-gymnasium.de
SUMMARY:Feierliche Übergabe der Abiturzeugnisse
DESCRIPTION:
URL:https://www.henfling-gymnasium.de/termin/feierliche-uebergabe-der-abiturzeugnisse/
LOCATION:Staatstheater Meiningen\, Bernhardstraße 5\, Meiningen\, Thüringen\, 98617\, Germany
CATEGORIES:Abitur,Eltern,Klasse 12,Lehrerinnen und Lehrer,Theater
END:VEVENT
BEGIN:VEVENT
DTSTART;TZID=Europe/Berlin:20260620T170000
DTEND;TZID=Europe/Berlin:20260620T230000
DTSTAMP:20260423T164851
CREATED:20250729T100103Z
LAST-MODIFIED:20250729T100103Z
UID:6693-1781974800-1781996400@www.henfling-gymnasium.de
SUMMARY:Abiball
DESCRIPTION:
URL:https://www.henfling-gymnasium.de/termin/abiball-3/
CATEGORIES:Abitur,Eltern,Klasse 12,Lehrerinnen und Lehrer
END:VEVENT
BEGIN:VEVENT
DTSTART;TZID=Europe/Berlin:20260622T073000
DTEND;TZID=Europe/Berlin:20260626T200000
DTSTAMP:20260423T164851
CREATED:20250729T095301Z
LAST-MODIFIED:20250729T095301Z
UID:6688-1782113400-1782504000@www.henfling-gymnasium.de
SUMMARY:Projektwochen Lernen am anderen Ort
DESCRIPTION:
URL:https://www.henfling-gymnasium.de/termin/projektwochen-lernen-am-anderen-ort/
CATEGORIES:Eltern,Klasse 10,Klasse 11,Klasse 9,Lehrerinnen und Lehrer,Lernen am anderen Ort
END:VEVENT
BEGIN:VEVENT
DTSTART;TZID=Europe/Berlin:20260629T143000
DTEND;TZID=Europe/Berlin:20260629T163000
DTSTAMP:20260423T164851
CREATED:20250802T155042Z
LAST-MODIFIED:20250802T155042Z
UID:6761-1782743400-1782750600@www.henfling-gymnasium.de
SUMMARY:Dienstberatung/Lehrerkonferenz
DESCRIPTION:
URL:https://www.henfling-gymnasium.de/termin/dienstberatung-lehrerkonferenz-12/
END:VEVENT
BEGIN:VEVENT
DTSTART;TZID=Europe/Berlin:20260630T073000
DTEND;TZID=Europe/Berlin:20260630T150000
DTSTAMP:20260423T164851
CREATED:20250729T100528Z
LAST-MODIFIED:20250729T100528Z
UID:6695-1782804600-1782831600@www.henfling-gymnasium.de
SUMMARY:Sommerfest
DESCRIPTION:
URL:https://www.henfling-gymnasium.de/termin/sommerfest/
LOCATION:Freizeitzentrum Rohrer Stirn\, Rohrer Stirn 1\, Meiningen\, Thüringen\, 98617\, Germany
CATEGORIES:Besondere Veranstaltung,Klasse 10,Klasse 11,Klasse 5,Klasse 6,Klasse 7,Klasse 8,Klasse 9,Lehrerinnen und Lehrer,Lernen am anderen Ort,Sportveranstaltung
END:VEVENT
END:VCALENDAR