BEGIN:VCALENDAR
VERSION:2.0
PRODID:-//Henfling-Gymnasium Meiningen - ECPv6.15.20//NONSGML v1.0//EN
CALSCALE:GREGORIAN
METHOD:PUBLISH
X-WR-CALNAME:Henfling-Gymnasium Meiningen
X-ORIGINAL-URL:https://www.henfling-gymnasium.de
X-WR-CALDESC:Veranstaltungen für Henfling-Gymnasium Meiningen
REFRESH-INTERVAL;VALUE=DURATION:PT1H
X-Robots-Tag:noindex
X-PUBLISHED-TTL:PT1H
BEGIN:VTIMEZONE
TZID:Europe/Berlin
BEGIN:DAYLIGHT
TZOFFSETFROM:+0100
TZOFFSETTO:+0200
TZNAME:CEST
DTSTART:20250330T010000
END:DAYLIGHT
BEGIN:STANDARD
TZOFFSETFROM:+0200
TZOFFSETTO:+0100
TZNAME:CET
DTSTART:20251026T010000
END:STANDARD
BEGIN:DAYLIGHT
TZOFFSETFROM:+0100
TZOFFSETTO:+0200
TZNAME:CEST
DTSTART:20260329T010000
END:DAYLIGHT
BEGIN:STANDARD
TZOFFSETFROM:+0200
TZOFFSETTO:+0100
TZNAME:CET
DTSTART:20261025T010000
END:STANDARD
BEGIN:DAYLIGHT
TZOFFSETFROM:+0100
TZOFFSETTO:+0200
TZNAME:CEST
DTSTART:20270328T010000
END:DAYLIGHT
BEGIN:STANDARD
TZOFFSETFROM:+0200
TZOFFSETTO:+0100
TZNAME:CET
DTSTART:20271031T010000
END:STANDARD
END:VTIMEZONE
BEGIN:VEVENT
DTSTART;VALUE=DATE:20260611
DTEND;VALUE=DATE:20260612
DTSTAMP:20260423T181513
CREATED:20250324T130710Z
LAST-MODIFIED:20250324T130710Z
UID:6125-1781136000-1781222399@www.henfling-gymnasium.de
SUMMARY:Verbindliche Mitteilung der Schüler über zusätzliche mündliche Abiturprüfungen (§ 100 Abs. 2 ThürSchulO)
DESCRIPTION:
URL:https://www.henfling-gymnasium.de/termin/verbindliche-mitteilung-der-schueler-ueber-zusaetzliche-muendliche-abiturpruefungen-%c2%a7-100-abs-2-thuerschulo-2/
CATEGORIES:Abitur
END:VEVENT
BEGIN:VEVENT
DTSTART;VALUE=DATE:20260611
DTEND;VALUE=DATE:20260612
DTSTAMP:20260423T181513
CREATED:20250324T131242Z
LAST-MODIFIED:20250324T131242Z
UID:6137-1781136000-1781222399@www.henfling-gymnasium.de
SUMMARY:Mitteilung der Ergebnisse der schriftlichen Besonderen Leistungsfeststellung
DESCRIPTION:
URL:https://www.henfling-gymnasium.de/termin/mitteilung-der-ergebnisse-der-schriftlichen-besonderen-leistungsfeststellung-5/
CATEGORIES:Besondere Leistungsfeststellung
END:VEVENT
END:VCALENDAR