BEGIN:VCALENDAR
VERSION:2.0
PRODID:-//Henfling-Gymnasium Meiningen - ECPv6.15.20//NONSGML v1.0//EN
CALSCALE:GREGORIAN
METHOD:PUBLISH
X-ORIGINAL-URL:https://www.henfling-gymnasium.de
X-WR-CALDESC:Veranstaltungen für Henfling-Gymnasium Meiningen
REFRESH-INTERVAL;VALUE=DURATION:PT1H
X-Robots-Tag:noindex
X-PUBLISHED-TTL:PT1H
BEGIN:VTIMEZONE
TZID:Europe/Berlin
BEGIN:DAYLIGHT
TZOFFSETFROM:+0100
TZOFFSETTO:+0200
TZNAME:CEST
DTSTART:20250330T010000
END:DAYLIGHT
BEGIN:STANDARD
TZOFFSETFROM:+0200
TZOFFSETTO:+0100
TZNAME:CET
DTSTART:20251026T010000
END:STANDARD
BEGIN:DAYLIGHT
TZOFFSETFROM:+0100
TZOFFSETTO:+0200
TZNAME:CEST
DTSTART:20260329T010000
END:DAYLIGHT
BEGIN:STANDARD
TZOFFSETFROM:+0200
TZOFFSETTO:+0100
TZNAME:CET
DTSTART:20261025T010000
END:STANDARD
BEGIN:DAYLIGHT
TZOFFSETFROM:+0100
TZOFFSETTO:+0200
TZNAME:CEST
DTSTART:20270328T010000
END:DAYLIGHT
BEGIN:STANDARD
TZOFFSETFROM:+0200
TZOFFSETTO:+0100
TZNAME:CET
DTSTART:20271031T010000
END:STANDARD
END:VTIMEZONE
BEGIN:VEVENT
DTSTART;VALUE=DATE:20260513
DTEND;VALUE=DATE:20260521
DTSTAMP:20260423T180441
CREATED:20250611T172709Z
LAST-MODIFIED:20251201T114029Z
UID:6493-1778630400-1779321599@www.henfling-gymnasium.de
SUMMARY:ERASMUS+ Projekt mit Spanien
DESCRIPTION:Die spanischen AustauschschülerInnen sind am Henfling-Gymnasium
URL:https://www.henfling-gymnasium.de/termin/erasmus-projekt-mit-spanien-2/
LOCATION:IES Juan de Villanueva Pola de Siero\, Pola de Siero\, Spain
CATEGORIES:Erasmus +,Klasse 9
END:VEVENT
BEGIN:VEVENT
DTSTART;TZID=Europe/Berlin:20260518T073000
DTEND;TZID=Europe/Berlin:20260522T150000
DTSTAMP:20260423T180441
CREATED:20250729T102051Z
LAST-MODIFIED:20250803T215358Z
UID:6711-1779089400-1779462000@www.henfling-gymnasium.de
SUMMARY:Praktikum der Klassenstufe 9 am BTZ Rohr
DESCRIPTION:
URL:https://www.henfling-gymnasium.de/termin/praktikum-der-jahrgangsstufe-9-am-btz-rohr/
LOCATION:Bildungscampus BTZ Rohr-Kloster\, Kloster 1\, Rohr\, Thüringen\, 98530\, Germany
CATEGORIES:Berufsorientierung,Eltern,Klasse 9,Lehrerinnen und Lehrer,Lernen am anderen Ort
END:VEVENT
BEGIN:VEVENT
DTSTART;TZID=Europe/Berlin:20260520T080000
DTEND;TZID=Europe/Berlin:20260520T170000
DTSTAMP:20260423T180441
CREATED:20250324T131059Z
LAST-MODIFIED:20250324T131059Z
UID:6133-1779264000-1779296400@www.henfling-gymnasium.de
SUMMARY:Besondere Leistungsfeststellung Naturwissenschaften
DESCRIPTION:
URL:https://www.henfling-gymnasium.de/termin/besondere-leistungsfeststellung-naturwissenschaften-3/
CATEGORIES:Besondere Leistungsfeststellung
END:VEVENT
END:VCALENDAR