BEGIN:VCALENDAR
VERSION:2.0
PRODID:-//Henfling-Gymnasium Meiningen - ECPv6.15.20//NONSGML v1.0//EN
CALSCALE:GREGORIAN
METHOD:PUBLISH
X-WR-CALNAME:Henfling-Gymnasium Meiningen
X-ORIGINAL-URL:https://www.henfling-gymnasium.de
X-WR-CALDESC:Veranstaltungen für Henfling-Gymnasium Meiningen
REFRESH-INTERVAL;VALUE=DURATION:PT1H
X-Robots-Tag:noindex
X-PUBLISHED-TTL:PT1H
BEGIN:VTIMEZONE
TZID:Europe/Berlin
BEGIN:DAYLIGHT
TZOFFSETFROM:+0100
TZOFFSETTO:+0200
TZNAME:CEST
DTSTART:20250330T010000
END:DAYLIGHT
BEGIN:STANDARD
TZOFFSETFROM:+0200
TZOFFSETTO:+0100
TZNAME:CET
DTSTART:20251026T010000
END:STANDARD
BEGIN:DAYLIGHT
TZOFFSETFROM:+0100
TZOFFSETTO:+0200
TZNAME:CEST
DTSTART:20260329T010000
END:DAYLIGHT
BEGIN:STANDARD
TZOFFSETFROM:+0200
TZOFFSETTO:+0100
TZNAME:CET
DTSTART:20261025T010000
END:STANDARD
BEGIN:DAYLIGHT
TZOFFSETFROM:+0100
TZOFFSETTO:+0200
TZNAME:CEST
DTSTART:20270328T010000
END:DAYLIGHT
BEGIN:STANDARD
TZOFFSETFROM:+0200
TZOFFSETTO:+0100
TZNAME:CET
DTSTART:20271031T010000
END:STANDARD
END:VTIMEZONE
BEGIN:VEVENT
DTSTART;VALUE=DATE:20260512
DTEND;VALUE=DATE:20260513
DTSTAMP:20260425T154937
CREATED:20250324T130858Z
LAST-MODIFIED:20250324T130858Z
UID:6129-1778544000-1778630399@www.henfling-gymnasium.de
SUMMARY:Besondere Leistungsfeststellung Deutsch
DESCRIPTION:
URL:https://www.henfling-gymnasium.de/termin/besondere-leistungsfeststellung-deutsch-3/
CATEGORIES:Besondere Leistungsfeststellung
END:VEVENT
BEGIN:VEVENT
DTSTART;VALUE=DATE:20260512
DTEND;VALUE=DATE:20260513
DTSTAMP:20260425T154937
CREATED:20250806T175929Z
LAST-MODIFIED:20251122T125338Z
UID:6900-1778544000-1778630399@www.henfling-gymnasium.de
SUMMARY:SPORTWETTKAMPF: Fußball Jungen U13
DESCRIPTION:Teilnehmer: Schüler der Klassenstufen 5+6 \nOrt: Stadion Maßfelder Weg \nBefreiung: ganztägig \nVerantwortung: Waap\, Matthias \n  \neingetragen am 06.08.2025
URL:https://www.henfling-gymnasium.de/termin/sportwettkampf-fussball-jungen-u13-2/
CATEGORIES:Sportveranstaltung
END:VEVENT
BEGIN:VEVENT
DTSTART;VALUE=DATE:20260512
DTEND;VALUE=DATE:20260513
DTSTAMP:20260425T154937
CREATED:20260401T100505Z
LAST-MODIFIED:20260401T100505Z
UID:8009-1778544000-1778630399@www.henfling-gymnasium.de
SUMMARY:Nachholtermin Waldtag der 6.Klassen
DESCRIPTION:
URL:https://www.henfling-gymnasium.de/termin/nachholtermin-waldtag-der-6-klassen/
CATEGORIES:Klasse 6,Lernen am anderen Ort
END:VEVENT
END:VCALENDAR