BEGIN:VCALENDAR
VERSION:2.0
PRODID:-//Henfling-Gymnasium Meiningen - ECPv6.15.20//NONSGML v1.0//EN
CALSCALE:GREGORIAN
METHOD:PUBLISH
X-ORIGINAL-URL:https://www.henfling-gymnasium.de
X-WR-CALDESC:Veranstaltungen für Henfling-Gymnasium Meiningen
REFRESH-INTERVAL;VALUE=DURATION:PT1H
X-Robots-Tag:noindex
X-PUBLISHED-TTL:PT1H
BEGIN:VTIMEZONE
TZID:Europe/Berlin
BEGIN:DAYLIGHT
TZOFFSETFROM:+0100
TZOFFSETTO:+0200
TZNAME:CEST
DTSTART:20250330T010000
END:DAYLIGHT
BEGIN:STANDARD
TZOFFSETFROM:+0200
TZOFFSETTO:+0100
TZNAME:CET
DTSTART:20251026T010000
END:STANDARD
BEGIN:DAYLIGHT
TZOFFSETFROM:+0100
TZOFFSETTO:+0200
TZNAME:CEST
DTSTART:20260329T010000
END:DAYLIGHT
BEGIN:STANDARD
TZOFFSETFROM:+0200
TZOFFSETTO:+0100
TZNAME:CET
DTSTART:20261025T010000
END:STANDARD
BEGIN:DAYLIGHT
TZOFFSETFROM:+0100
TZOFFSETTO:+0200
TZNAME:CEST
DTSTART:20270328T010000
END:DAYLIGHT
BEGIN:STANDARD
TZOFFSETFROM:+0200
TZOFFSETTO:+0100
TZNAME:CET
DTSTART:20271031T010000
END:STANDARD
END:VTIMEZONE
BEGIN:VEVENT
DTSTART;VALUE=DATE:20260427
DTEND;VALUE=DATE:20260428
DTSTAMP:20260423T152103
CREATED:20250803T221844Z
LAST-MODIFIED:20250803T221844Z
UID:6802-1777248000-1777334399@www.henfling-gymnasium.de
SUMMARY:Berufsberatung der Agentur für Arbeit (Klassenstufen 10\, 11 und 12)
DESCRIPTION:
URL:https://www.henfling-gymnasium.de/termin/berufsberatung-der-agentur-fuer-arbeit-klassenstufen-10-11-und-12-8/
CATEGORIES:Berufsorientierung,Eltern,Klasse 10,Klasse 11,Klasse 12,Lehrerinnen und Lehrer
END:VEVENT
BEGIN:VEVENT
DTSTART;TZID=Europe/Berlin:20260427T143000
DTEND;TZID=Europe/Berlin:20260427T163000
DTSTAMP:20260423T152103
CREATED:20250802T154444Z
LAST-MODIFIED:20250802T154444Z
UID:6759-1777300200-1777307400@www.henfling-gymnasium.de
SUMMARY:Dienstberatung/Lehrerkonferenz
DESCRIPTION:
URL:https://www.henfling-gymnasium.de/termin/dienstberatung-lehrerkonferenz-11/
END:VEVENT
END:VCALENDAR