BEGIN:VCALENDAR
VERSION:2.0
PRODID:-//Henfling-Gymnasium Meiningen - ECPv6.15.20//NONSGML v1.0//EN
CALSCALE:GREGORIAN
METHOD:PUBLISH
X-WR-CALNAME:Henfling-Gymnasium Meiningen
X-ORIGINAL-URL:https://www.henfling-gymnasium.de
X-WR-CALDESC:Veranstaltungen für Henfling-Gymnasium Meiningen
REFRESH-INTERVAL;VALUE=DURATION:PT1H
X-Robots-Tag:noindex
X-PUBLISHED-TTL:PT1H
BEGIN:VTIMEZONE
TZID:Europe/Berlin
BEGIN:DAYLIGHT
TZOFFSETFROM:+0100
TZOFFSETTO:+0200
TZNAME:CEST
DTSTART:20250330T010000
END:DAYLIGHT
BEGIN:STANDARD
TZOFFSETFROM:+0200
TZOFFSETTO:+0100
TZNAME:CET
DTSTART:20251026T010000
END:STANDARD
BEGIN:DAYLIGHT
TZOFFSETFROM:+0100
TZOFFSETTO:+0200
TZNAME:CEST
DTSTART:20260329T010000
END:DAYLIGHT
BEGIN:STANDARD
TZOFFSETFROM:+0200
TZOFFSETTO:+0100
TZNAME:CET
DTSTART:20261025T010000
END:STANDARD
BEGIN:DAYLIGHT
TZOFFSETFROM:+0100
TZOFFSETTO:+0200
TZNAME:CEST
DTSTART:20270328T010000
END:DAYLIGHT
BEGIN:STANDARD
TZOFFSETFROM:+0200
TZOFFSETTO:+0100
TZNAME:CET
DTSTART:20271031T010000
END:STANDARD
END:VTIMEZONE
BEGIN:VEVENT
DTSTART;VALUE=DATE:20260424
DTEND;VALUE=DATE:20260425
DTSTAMP:20260423T151720
CREATED:20250819T104432Z
LAST-MODIFIED:20250914T083403Z
UID:7083-1776988800-1777075199@www.henfling-gymnasium.de
SUMMARY:Notenmitteilung (Stand: 24.04.2026)
DESCRIPTION:
URL:https://www.henfling-gymnasium.de/termin/notenmitteilung-stand-24-04-2026/
CATEGORIES:Eltern,Klasse 10,Klasse 11,Klasse 5,Klasse 6,Klasse 7,Klasse 8,Klasse 9,Lehrerinnen und Lehrer
END:VEVENT
BEGIN:VEVENT
DTSTART;VALUE=DATE:20260424
DTEND;VALUE=DATE:20260425
DTSTAMP:20260423T151720
CREATED:20250324T125654Z
LAST-MODIFIED:20250324T125654Z
UID:6107-1776988800-1777075199@www.henfling-gymnasium.de
SUMMARY:Verbindliche Mitteilung der Schüler\, welche Kurse in die Qualifikation einbezogen werden und Bestätigung der beiden mündlichen Prüfungsfächer oder bei Einbringung der Seminarfachleistung das verbleibende mündliche Prüfungsfach
DESCRIPTION:
URL:https://www.henfling-gymnasium.de/termin/verbindliche-mitteilung-der-schueler-welche-kurse-in-die-qualifikation-einbezogen-werden-und-bestaetigung-der-beiden-muendlichen-pruefungsfaecher-oder-bei-einbringung-der-seminarfachleistung-das-verb/
END:VEVENT
BEGIN:VEVENT
DTSTART;VALUE=DATE:20260424
DTEND;VALUE=DATE:20260425
DTSTAMP:20260423T151721
CREATED:20250324T125746Z
LAST-MODIFIED:20250324T125746Z
UID:6109-1776988800-1777075199@www.henfling-gymnasium.de
SUMMARY:Information der Schüler über die Zulassung zur Abiturprüfung
DESCRIPTION:
URL:https://www.henfling-gymnasium.de/termin/information-der-schueler-ueber-die-zulassung-zur-abiturpruefung-2/
CATEGORIES:Abitur
END:VEVENT
BEGIN:VEVENT
DTSTART;TZID=Europe/Berlin:20260424T150000
DTEND;TZID=Europe/Berlin:20260424T200000
DTSTAMP:20260423T151721
CREATED:20250806T175823Z
LAST-MODIFIED:20250806T175823Z
UID:6898-1777042800-1777060800@www.henfling-gymnasium.de
SUMMARY:Lehrer-Volleyball-Turnier
DESCRIPTION:Teilnehmer: interessierte Lehrkräfte \nOrt: Hildburghausen \nVerantwortung: Hardt\, Sebastian \n  \neingetragen am 06.08.2025
URL:https://www.henfling-gymnasium.de/termin/lehrer-volleyball-turnier/
CATEGORIES:Lehrerinnen und Lehrer
END:VEVENT
END:VCALENDAR